BEGIN:VCALENDAR
VERSION:2.0
PRODID:-//wp-events-plugin.com//7.2.3//EN
TZID:America/Los_Angeles
X-WR-TIMEZONE:America/Los_Angeles
BEGIN:VEVENT
UID:2@neighborjoys.com
DTSTART;TZID=America/Los_Angeles:20240607T000000
DTEND;TZID=America/Los_Angeles:20240607T000000
DTSTAMP:20240605T035041Z
URL:https://neighborjoys.com/events/test/
SUMMARY:test
DESCRIPTION:test
END:VEVENT
BEGIN:VTIMEZONE
TZID:America/Los_Angeles
X-LIC-LOCATION:America/Los_Angeles
BEGIN:DAYLIGHT
DTSTART:20240310T030000
TZOFFSETFROM:-0800
TZOFFSETTO:-0700
TZNAME:PDT
END:DAYLIGHT
END:VTIMEZONE
END:VCALENDAR